BEGIN:VCALENDAR
VERSION:2.0
PRODID:icalendar-ruby
CALSCALE:GREGORIAN
METHOD:PUBLISH
BEGIN:VEVENT
DTSTAMP:20260423T034908Z
UID:91-2636684@wcc.org.au
DTSTART:20261101T230000Z
DTEND:20261102T010000Z
CLASS:PUBLIC
CREATED:20260423T112418
DESCRIPTION:Meeting weekly at 10.00am during school terms\, we are currentl
 y studying the book of John. \nFor any enquiries\, speak to Tanya Wells o
 r Merrin Minter or email\; office@wcc.org.au.\nYou will be warmly welcomed
 \; hope you can join us. 
LAST-MODIFIED:20260423T112418
LOCATION:Warrandyte Community Church\, 57 Yarra St Warrandyte VIC 3113
SUMMARY:Women's Life Group
URL;VALUE=URI:https://wcc.org.au/events/womens-life-group/2026-11-02
ATTACH;FILENAME=Women%E2%80%99s-Life-Group-.png;FMTTYPE=image/png:https://d
 q5pwpg1q8ru0.cloudfront.net/2025/11/26/22/46/21/9c3d10a5-f2eb-4aab-bb95-b6
 8e161da8ef/Women%25E2%2580%2599s-Life-Group-.png
END:VEVENT
END:VCALENDAR
