BEGIN:VCALENDAR
VERSION:2.0
PRODID:icalendar-ruby
CALSCALE:GREGORIAN
METHOD:PUBLISH
BEGIN:VEVENT
DTSTAMP:20260422T225029Z
UID:47-2634468@wcc.org.au
DTSTART:20261023T080000Z
DTEND:20261023T100000Z
CLASS:PUBLIC
CREATED:20260423T083215
DESCRIPTION:Youth Runs Friday Nights during school terms\, usually 7pm to 9
 pm. The venue may change\, check the youth emails for details.\nIf you wis
 h to attend and are not receiving these\, email youth@wcc.org.au\nPlease d
 on’t forget to fill out our registration form and share it with any frie
 nds you'd like to bring along PRIOR to coming!\n2026 Registration Form\nIf
  you have any questions\, please send an email to Steph at youth@wcc.org.a
 u or contact Narelle Winter on 0401 739 177.
LAST-MODIFIED:20260423T083215
LOCATION:Varies\, see youth email or social media. 
SUMMARY:Youth Group
URL;VALUE=URI:https://wcc.org.au/events/youth-group/2026-10-23
ATTACH;FILENAME=April-24th---Bounce.png;FMTTYPE=image/png:https://dq5pwpg1q
 8ru0.cloudfront.net/2026/04/16/04/06/55/5e3394a6-a21b-4e8d-9a5f-193d26af92
 36/April-24th---Bounce.png
END:VEVENT
END:VCALENDAR
